BEGIN:VCALENDAR
VERSION:2.0
PRODID:-//Discipline of Music - ECPv6.15.20//NONSGML v1.0//EN
CALSCALE:GREGORIAN
METHOD:PUBLISH
X-WR-CALNAME:Discipline of Music
X-ORIGINAL-URL:https://music.ukzn.ac.za
X-WR-CALDESC:Events for Discipline of Music
REFRESH-INTERVAL;VALUE=DURATION:PT1H
X-Robots-Tag:noindex
X-PUBLISHED-TTL:PT1H
BEGIN:VTIMEZONE
TZID:Africa/Johannesburg
BEGIN:STANDARD
TZOFFSETFROM:+0200
TZOFFSETTO:+0200
TZNAME:SAST
DTSTART:20250101T000000
END:STANDARD
END:VTIMEZONE
BEGIN:VEVENT
DTSTART;TZID=Africa/Johannesburg:20260422T173000
DTEND;TZID=Africa/Johannesburg:20260422T203000
DTSTAMP:20260424T101309
CREATED:20260417T104437Z
LAST-MODIFIED:20260417T104552Z
UID:5972-1776879000-1776889800@music.ukzn.ac.za
SUMMARY:Miles meets Mzansi
DESCRIPTION:Press release: Miles meets Mzansi Wednesday 22 April 2026 at 17:30 \n\n\n\nThe UKZN Centre for Jazz and Popular Music celebrates the centenary anniversaries of Miles Davis and John Coltrane in celebration of Jazz Appreciation month \n\n\n\n2026 provides opportunity to celebrate the centenary occasions of two of jazz’s great icons\, Miles Davis and John Coltrane. The theme therefore of our Jazz Appreciation Month(JAM) celebration in April is Miles and Trane @100 : the impact of Miles Davis and John Coltrane on SA jazz and culture. Consequently\, our regular Wednesday night concert program at CJPM will pay homage to these two jazz giants with a sequence of four themed concerts in April: \n\n\n\nMiles meets Mzansi \n\n\n\nThe spirit of innovation and futurism of Miles Davis meets the imagination of young South African musicians. Classics re-imagined with a feel Mzansi flavour will be finessed as new arrangements and interpretations of Miles Davis tunes are woven into the sound of contemporary South Africa. Ntokozo Nsimbane on trumpet\, Siyalo Zulu on trombone\, Neil Gonsalves on piano\, Zolile Mgqatsha on bass and Riley Giandhari on drums. \n\n\n\n\nEvent Details  \n\n\n\nWednesday 22 April 2026 \n\n\n\nDoors open at 17:00 \n\n\n\nMusic at 17:30 \n\n\n\nCentre for Jazz and Popular Music \n\n\n\nTICKETS:     R130\, pensioners R100\, students R70
URL:https://music.ukzn.ac.za/event/miles-meets-mzansi
CATEGORIES:Live,Press Release
ATTACH;FMTTYPE=image/png:https://music.ukzn.ac.za/wp-content/uploads/2026/04/Miles-meets-Mzansi.png
END:VEVENT
END:VCALENDAR